BEGIN:VCALENDAR
VERSION:2.0
PRODID:-//https://www.outspokenentertainment.com///NONSGML kigkonsult.se iCalcreator 2.10.15//
METHOD:PUBLISH
BEGIN:VEVENT
UID:20260421T143409UTC-39869bxXaM@https://www.outspokenentertainment.com/
DTSTAMP:20260421T143409Z
DESCRIPTION:Phone number: (770) 993-0007 &nbsp\; https://www.outspokenenter
 tainment.com/events/event/99-roux-on-canton-roswell
DTSTART;VALUE=DATE:20200109
LOCATION:Roux on Canton - Roswell (946 Canton St \, Roswell\, 30075)
SUMMARY:Roux on Canton - Roswell
URL:https://www.outspokenentertainment.com/events/event/99-roux-on-canton-r
 oswell
END:VEVENT
END:VCALENDAR
