BEGIN:VCALENDAR
VERSION:2.0
PRODID:-//https://www.outspokenentertainment.com///NONSGML kigkonsult.se iCalcreator 2.10.15//
METHOD:PUBLISH
BEGIN:VEVENT
UID:20260421T143409UTC-3482gN9BCm@https://www.outspokenentertainment.com/
DTSTAMP:20260421T143409Z
DESCRIPTION:Phone number: (404) 998-5679 https://www.outspokenentertainment
 .com/events/event/87-lost-druid-brewery-avondale-estates
DTSTART;VALUE=DATE:20190712
LOCATION:Lost Druid Brewery - Avondale Estates (2866 Washington St \, Avond
 ale Estates\, 30002)
SUMMARY:Lost Druid Brewery - Avondale Estates
URL:https://www.outspokenentertainment.com/events/event/87-lost-druid-brewe
 ry-avondale-estates
END:VEVENT
END:VCALENDAR
