BEGIN:VCALENDAR
VERSION:2.0
PRODID:-//https://www.outspokenentertainment.com///NONSGML kigkonsult.se iCalcreator 2.10.15//
METHOD:PUBLISH
BEGIN:VEVENT
UID:20260421T143648UTC-5444KjG8nu@https://www.outspokenentertainment.com/
DTSTAMP:20260421T143648Z
DESCRIPTION:Phone : (470) 359-5982 https://www.outspokenentertainment.com/e
 vents/event/86-vintage-pizzeria-dunwoody
DTSTART;VALUE=DATE:20190709
LOCATION:Vintage Pizzeria - Dunwoody (5510 Chamblee Dunwoody Rd\, Dunwoody\
 , 30338 )
SUMMARY:Vintage Pizzeria - Dunwoody
URL:https://www.outspokenentertainment.com/events/event/86-vintage-pizzeria
 -dunwoody
END:VEVENT
END:VCALENDAR
