BEGIN:VCALENDAR
VERSION:2.0
PRODID:-//https://www.outspokenentertainment.com///NONSGML kigkonsult.se iCalcreator 2.10.15//
METHOD:PUBLISH
BEGIN:VEVENT
UID:20260421T143348UTC-6738EkwiZv@https://www.outspokenentertainment.com/
DTSTAMP:20260421T143348Z
DESCRIPTION:Phone number: (404) 975-2316 &nbsp\; https://www.outspokenenter
 tainment.com/events/event/83-ponko-chicken-midtown
DTSTART;VALUE=DATE:20190515
LOCATION:Ponko Chicken - Midtown (915 West Peachtree Street NW\, Ste 6 \, A
 tlanta\, 30309)
SUMMARY:Ponko Chicken - Midtown
URL:https://www.outspokenentertainment.com/events/event/83-ponko-chicken-mi
 dtown
END:VEVENT
END:VCALENDAR
