BEGIN:VCALENDAR
VERSION:2.0
PRODID:-//https://www.outspokenentertainment.com///NONSGML kigkonsult.se iCalcreator 2.10.15//
METHOD:PUBLISH
BEGIN:VEVENT
UID:20260421T143838UTC-4225E4locB@https://www.outspokenentertainment.com/
DTSTAMP:20260421T143838Z
DESCRIPTION:Phone Number : (470) 395-7904&nbsp\;\n&nbsp\;\n&nbsp\; https://
 www.outspokenentertainment.com/events/event/78-hobnob-neighborhood-tavern-
 perimeter
DTSTART;VALUE=DATE:20190106
LOCATION:HobNob Neighborhood Tavern - Perimeter (1221 Ashford Crossing \, A
 tlanta\, 30346)
SUMMARY:HobNob Neighborhood Tavern - Perimeter
URL:https://www.outspokenentertainment.com/events/event/78-hobnob-neighborh
 ood-tavern-perimeter
END:VEVENT
END:VCALENDAR
