BEGIN:VCALENDAR
VERSION:2.0
PRODID:-//https://www.outspokenentertainment.com///NONSGML kigkonsult.se iCalcreator 2.10.15//
METHOD:PUBLISH
BEGIN:VEVENT
UID:20260421T125950UTC-3931xSThj3@https://www.outspokenentertainment.com/
DTSTAMP:20260421T125950Z
DESCRIPTION:Phone number: (770) 969-6111&nbsp\; &nbsp\;&nbsp\; https://www.
 outspokenentertainment.com/events/event/75-chapultepec-tyrone
DTSTART;VALUE=DATE:20181016
LOCATION:Chapultepec - Tyrone (34 Carriage Oaks Dr\, Tyrone\, 30290)
SUMMARY:Chapultepec - Tyrone
URL:https://www.outspokenentertainment.com/events/event/75-chapultepec-tyro
 ne
END:VEVENT
END:VCALENDAR
