BEGIN:VCALENDAR
VERSION:2.0
PRODID:-//https://www.outspokenentertainment.com///NONSGML kigkonsult.se iCalcreator 2.10.15//
METHOD:PUBLISH
BEGIN:VEVENT
UID:20260421T125947UTC-2965u8JeVZ@https://www.outspokenentertainment.com/
DTSTAMP:20260421T125947Z
DESCRIPTION:Phone Number : (404) 228-5164 https://www.outspokenentertainmen
 t.com/events/event/65-whelan-w-midtown
DTSTART;VALUE=DATE:20181208
LOCATION:Whelan - W Midtown (1133 Huff Rd NW\, Atlanta\, 30318)
SUMMARY:Whelan - W Midtown
URL:https://www.outspokenentertainment.com/events/event/65-whelan-w-midtown
END:VEVENT
END:VCALENDAR
