BEGIN:VCALENDAR
VERSION:2.0
PRODID:-//https://www.outspokenentertainment.com///NONSGML kigkonsult.se iCalcreator 2.10.15//
METHOD:PUBLISH
BEGIN:VEVENT
UID:20260421T130121UTC-3005wJ4wMv@https://www.outspokenentertainment.com/
DTSTAMP:20260421T130121Z
DESCRIPTION:Phone Number : (678) 646-0400 https://www.outspokenentertainmen
 t.com/events/event/61-vintage-pizzeria-chamblee
DTSTART;VALUE=DATE:20181208
LOCATION:Vintage Pizzeria - Chamblee (5434 Peachtree Rd\, Chamblee\, 30341)
SUMMARY:Vintage Pizzeria - Chamblee
URL:https://www.outspokenentertainment.com/events/event/61-vintage-pizzeria
 -chamblee
END:VEVENT
END:VCALENDAR
