BEGIN:VCALENDAR
VERSION:2.0
PRODID:-//https://www.outspokenentertainment.com///NONSGML kigkonsult.se iCalcreator 2.10.15//
METHOD:PUBLISH
BEGIN:VEVENT
UID:20260421T135136UTC-60576pXtDw@https://www.outspokenentertainment.com/
DTSTAMP:20260421T135136Z
DESCRIPTION:Phone Number : (770) 955-4413&nbsp\; https://www.outspokenenter
 tainment.com/events/event/56-harrys-pizza-subs-285-powers-ferry
DTSTART;VALUE=DATE:20181208
LOCATION:Harry's Pizza & Subs - 285/Powers Ferry  (2150 Powers Ferry Rd SE\
 , Atlanta\, 30339)
SUMMARY:Harry's Pizza & Subs - 285/Powers Ferry 
URL:https://www.outspokenentertainment.com/events/event/56-harrys-pizza-sub
 s-285-powers-ferry
END:VEVENT
END:VCALENDAR
