BEGIN:VCALENDAR
VERSION:2.0
PRODID:-//https://www.outspokenentertainment.com///NONSGML kigkonsult.se iCalcreator 2.10.15//
METHOD:PUBLISH
BEGIN:VEVENT
UID:20260421T140928UTC-5403URt4r4@https://www.outspokenentertainment.com/
DTSTAMP:20260421T140928Z
DESCRIPTION:Phone Number : (404) 254-4538 https://www.outspokenentertainmen
 t.com/events/event/53-stratford-avondale-estates
DTSTART;VALUE=DATE:20181208
LOCATION:Stratford - Avondale Estates (17 N Avondale Rd\, Avondale Estates\
 , 30002)
SUMMARY:Stratford - Avondale Estates
URL:https://www.outspokenentertainment.com/events/event/53-stratford-avonda
 le-estates
END:VEVENT
END:VCALENDAR
