BEGIN:VCALENDAR
VERSION:2.0
PRODID:-//https://www.outspokenentertainment.com///NONSGML kigkonsult.se iCalcreator 2.10.15//
METHOD:PUBLISH
BEGIN:VEVENT
UID:20260421T130510UTC-0683u0AIO6@https://www.outspokenentertainment.com/
DTSTAMP:20260421T130510Z
DESCRIPTION:Phone Number : (770) 772-1077 https://www.outspokenentertainmen
 t.com/events/event/46-adobo-taqueria-tequila-bar-alpharetta
DTSTART;VALUE=DATE:20181208
LOCATION:Adobo Taqueria & Tequila Bar - Alpharetta (11585 Jones Bridge Rd\,
  Alpharetta\, 30022)
SUMMARY:Adobo Taqueria & Tequila Bar - Alpharetta
URL:https://www.outspokenentertainment.com/events/event/46-adobo-taqueria-t
 equila-bar-alpharetta
END:VEVENT
END:VCALENDAR
