BEGIN:VCALENDAR
VERSION:2.0
PRODID:-//https://www.outspokenentertainment.com///NONSGML kigkonsult.se iCalcreator 2.10.15//
METHOD:PUBLISH
BEGIN:VEVENT
UID:20260421T143725UTC-4555wZSWnc@https://www.outspokenentertainment.com/
DTSTAMP:20260421T143725Z
DESCRIPTION:Phone :&nbsp\;(404) 343-0819&nbsp\; https://www.outspokenentert
 ainment.com/events/event/362-kpot-korean-bbq-hot-pot-howell-mill
DTSTART;VALUE=DATE:20251022
LOCATION:KPOT Korean BBQ & Hot Pot - Howell Mill (1715 Howell Mill Rd D-23\
 , Atlanta\, GA 30318)
SUMMARY:KPOT Korean BBQ & Hot Pot - Howell Mill
URL:https://www.outspokenentertainment.com/events/event/362-kpot-korean-bbq
 -hot-pot-howell-mill
END:VEVENT
END:VCALENDAR
