BEGIN:VCALENDAR
VERSION:2.0
PRODID:-//https://www.outspokenentertainment.com///NONSGML kigkonsult.se iCalcreator 2.10.15//
METHOD:PUBLISH
BEGIN:VEVENT
UID:20260421T142934UTC-6268WwgfVx@https://www.outspokenentertainment.com/
DTSTAMP:20260421T142934Z
DESCRIPTION:Phone :&nbsp\;(706) 367-4835 https://www.outspokenentertainment
 .com/events/event/359-beef-obradys-jefferson
DTSTART;VALUE=DATE:20250926
LOCATION:Beef O'Brady's - Jefferson (1679 Old Pendergrass Rd\, Jefferson\, 
 GA 30549 )
SUMMARY:Beef O'Brady's - Jefferson
URL:https://www.outspokenentertainment.com/events/event/359-beef-obradys-je
 fferson
END:VEVENT
END:VCALENDAR
