BEGIN:VCALENDAR
VERSION:2.0
PRODID:-//https://www.outspokenentertainment.com///NONSGML kigkonsult.se iCalcreator 2.10.15//
METHOD:PUBLISH
BEGIN:VEVENT
UID:20260421T143317UTC-5130uw7bix@https://www.outspokenentertainment.com/
DTSTAMP:20260421T143317Z
DESCRIPTION:Phone :&nbsp\;(404) 941-9763 https://www.outspokenentertainment
 .com/events/event/327-the-little-hippo-avondale-estates
DTSTART;VALUE=DATE:20250416
LOCATION:The Little Hippo - Avondale Estates (27 N Avondale Rd\, Avondale E
 states\, GA 30002\, USA)
SUMMARY:The Little Hippo - Avondale Estates
URL:https://www.outspokenentertainment.com/events/event/327-the-little-hipp
 o-avondale-estates
END:VEVENT
END:VCALENDAR
