BEGIN:VCALENDAR
VERSION:2.0
PRODID:-//https://www.outspokenentertainment.com///NONSGML kigkonsult.se iCalcreator 2.10.15//
METHOD:PUBLISH
BEGIN:VEVENT
UID:20260421T141944UTC-7919r9Mb9E@https://www.outspokenentertainment.com/
DTSTAMP:20260421T141944Z
DESCRIPTION:Phone :&nbsp\;(770) 413-6717 https://www.outspokenentertainment
 .com/events/event/322-stone-mountain-pizza-cafe
DTSTART;VALUE=DATE:20250213
LOCATION:Stone Mountain Pizza Cafe (5370 Stone Mountain Hwy #1030\, Stone M
 ountain\, GA 30087\, USA)
SUMMARY:Stone Mountain Pizza Cafe
URL:https://www.outspokenentertainment.com/events/event/322-stone-mountain-
 pizza-cafe
END:VEVENT
END:VCALENDAR
