BEGIN:VCALENDAR
VERSION:2.0
PRODID:-//https://www.outspokenentertainment.com///NONSGML kigkonsult.se iCalcreator 2.10.15//
METHOD:PUBLISH
BEGIN:VEVENT
UID:20260421T143806UTC-5004UrjEcs@https://www.outspokenentertainment.com/
DTSTAMP:20260421T143806Z
DESCRIPTION:Phone :&nbsp\;(770) 837-9839 https://www.outspokenentertainment
 .com/events/event/318-red-pepper-taqueria-dunwoody
DTSTART;VALUE=DATE:20250127
LOCATION:Red Pepper Taqueria - Dunwoody (4555 Ashford Dunwoody Rd\, Dunwood
 y\, GA 30346\, USA)
SUMMARY:Red Pepper Taqueria - Dunwoody
URL:https://www.outspokenentertainment.com/events/event/318-red-pepper-taqu
 eria-dunwoody
END:VEVENT
END:VCALENDAR
