BEGIN:VCALENDAR
VERSION:2.0
PRODID:-//https://www.outspokenentertainment.com///NONSGML kigkonsult.se iCalcreator 2.10.15//
METHOD:PUBLISH
BEGIN:VEVENT
UID:20260421T143545UTC-2540hjnMOc@https://www.outspokenentertainment.com/
DTSTAMP:20260421T143545Z
DESCRIPTION:Phone :&nbsp\;(770) 939-8777 https://www.outspokenentertainment
 .com/events/event/317-las-colinas-mexican-grill---tucker
DTSTART;VALUE=DATE:20250120
LOCATION:Las Colinas Mexican Grill – Tucker  (2327 Main St\, Tucker\, GA 30
 084)
SUMMARY:Las Colinas Mexican Grill – Tucker 
URL:https://www.outspokenentertainment.com/events/event/317-las-colinas-mex
 ican-grill---tucker
END:VEVENT
END:VCALENDAR
