BEGIN:VCALENDAR
VERSION:2.0
PRODID:-//https://www.outspokenentertainment.com///NONSGML kigkonsult.se iCalcreator 2.10.15//
METHOD:PUBLISH
BEGIN:VEVENT
UID:20260421T143557UTC-4388PBgRXB@https://www.outspokenentertainment.com/
DTSTAMP:20260421T143557Z
DESCRIPTION:Phone Number :&nbsp\;(404) 355-3636 https://www.outspokenentert
 ainment.com/events/event/306-westside-pizzeria-bar-westside-village
DTSTART;VALUE=DATE:20241206
LOCATION:Westside Pizzeria & Bar - Westside Village (Westside Village\, 226
 0 Marietta Blvd NW Suite 107\, Atlanta\, GA 30318\, USA)
SUMMARY:Westside Pizzeria & Bar - Westside Village
URL:https://www.outspokenentertainment.com/events/event/306-westside-pizzer
 ia-bar-westside-village
END:VEVENT
END:VCALENDAR
