BEGIN:VCALENDAR
VERSION:2.0
PRODID:-//https://www.outspokenentertainment.com///NONSGML kigkonsult.se iCalcreator 2.10.15//
METHOD:PUBLISH
BEGIN:VEVENT
UID:20260421T130639UTC-9538dmc07p@https://www.outspokenentertainment.com/
DTSTAMP:20260421T130639Z
DESCRIPTION:Phone Number : (770) 893-3399 https://www.outspokenentertainmen
 t.com/events/event/3-fuego-mexican-grill-marble-hill
DTSTART;VALUE=DATE:20181208
LOCATION:Fuego Mexican Grill - Marble Hill (260 Foothills Pkwy\, Marble Hil
 l\, GA 30148\, USA)
SUMMARY:Fuego Mexican Grill - Marble Hill
URL:https://www.outspokenentertainment.com/events/event/3-fuego-mexican-gri
 ll-marble-hill
END:VEVENT
END:VCALENDAR
