BEGIN:VCALENDAR
VERSION:2.0
PRODID:-//https://www.outspokenentertainment.com///NONSGML kigkonsult.se iCalcreator 2.10.15//
METHOD:PUBLISH
BEGIN:VEVENT
UID:20260421T143545UTC-675261AU4v@https://www.outspokenentertainment.com/
DTSTAMP:20260421T143545Z
DESCRIPTION:Phone Number : (678) 432-0712 https://www.outspokenentertainmen
 t.com/events/event/297-davincis-ny-style-pizza-mcdonough
DTSTART;VALUE=DATE:20241030
LOCATION:DaVinci's NY Style Pizza - McDonough (1035 Hwy 155 S\, McDonough\,
  30253)
SUMMARY:DaVinci's NY Style Pizza - McDonough
URL:https://www.outspokenentertainment.com/events/event/297-davincis-ny-sty
 le-pizza-mcdonough
END:VEVENT
END:VCALENDAR
