BEGIN:VCALENDAR
VERSION:2.0
PRODID:-//https://www.outspokenentertainment.com///NONSGML kigkonsult.se iCalcreator 2.10.15//
METHOD:PUBLISH
BEGIN:VEVENT
UID:20260421T143056UTC-8825cTvoZP@https://www.outspokenentertainment.com/
DTSTAMP:20260421T143056Z
DESCRIPTION:Phone number: TBD https://www.outspokenentertainment.com/events
 /event/296-finished-goods-brew-werks-winder
DTSTART;VALUE=DATE:20241111
LOCATION:Finished Goods Brew Werks - Winder (56 E Candler St\, Winder\, GA 
 30680\, USA)
SUMMARY:Finished Goods Brew Werks - Winder
URL:https://www.outspokenentertainment.com/events/event/296-finished-goods-
 brew-werks-winder
END:VEVENT
END:VCALENDAR
