BEGIN:VCALENDAR
VERSION:2.0
PRODID:-//https://www.outspokenentertainment.com///NONSGML kigkonsult.se iCalcreator 2.10.15//
METHOD:PUBLISH
BEGIN:VEVENT
UID:20260421T142331UTC-4028vwv4Pv@https://www.outspokenentertainment.com/
DTSTAMP:20260421T142331Z
DESCRIPTION:Phone number: (470) 567-2337 https://www.outspokenentertainment
 .com/events/event/291-chamblee-tap-market-chamblee
DTSTART;VALUE=DATE:20240906
LOCATION:Chamblee Tap & Market - Chamblee (3509 Broad St\, Chamblee\, GA 30
 341\, USA)
SUMMARY:Chamblee Tap & Market - Chamblee
URL:https://www.outspokenentertainment.com/events/event/291-chamblee-tap-ma
 rket-chamblee
END:VEVENT
END:VCALENDAR
