BEGIN:VCALENDAR
VERSION:2.0
PRODID:-//https://www.outspokenentertainment.com///NONSGML kigkonsult.se iCalcreator 2.10.15//
METHOD:PUBLISH
BEGIN:VEVENT
UID:20260421T141852UTC-69157wt9Sn@https://www.outspokenentertainment.com/
DTSTAMP:20260421T141852Z
DESCRIPTION:Phone Number: (404) 768-0007 https://www.outspokenentertainment
 .com/events/event/283-chairs-e-point
DTSTART;VALUE=DATE:20240703
LOCATION:Chairs - E Point (2783 Main St \, East Point\, 30344)
SUMMARY:Chairs - E Point
URL:https://www.outspokenentertainment.com/events/event/283-chairs-e-point
END:VEVENT
END:VCALENDAR
