BEGIN:VCALENDAR
VERSION:2.0
PRODID:-//https://www.outspokenentertainment.com///NONSGML kigkonsult.se iCalcreator 2.10.15//
METHOD:PUBLISH
BEGIN:VEVENT
UID:20260421T142037UTC-4271jMa0o6@https://www.outspokenentertainment.com/
DTSTAMP:20260421T142037Z
DESCRIPTION:Phone number:&nbsp\;(678) 489-4309 https://www.outspokenenterta
 inment.com/events/event/279-hobnob-neighborhood-tavern-peachtree-city
DTSTART;VALUE=DATE:20240510
LOCATION:HobNob Neighborhood Tavern - Peachtree City (240 City Cir\, Peacht
 ree City\, GA 30269\, USA)
SUMMARY:HobNob Neighborhood Tavern - Peachtree City
URL:https://www.outspokenentertainment.com/events/event/279-hobnob-neighbor
 hood-tavern-peachtree-city
END:VEVENT
END:VCALENDAR
