BEGIN:VCALENDAR
VERSION:2.0
PRODID:-//https://www.outspokenentertainment.com///NONSGML kigkonsult.se iCalcreator 2.10.15//
METHOD:PUBLISH
BEGIN:VEVENT
UID:20260421T143449UTC-65991umHKc@https://www.outspokenentertainment.com/
DTSTAMP:20260421T143449Z
DESCRIPTION:Phone number:&nbsp\;(470) 282-3335 https://www.outspokenenterta
 inment.com/events/event/272-diner-at-webb-gin-snellville
DTSTART;VALUE=DATE:20240326
LOCATION:Diner at Webb Gin - Snellville (1350 Scenic Hwy N STE 900\, Snellv
 ille\, GA 30078\, USA)
SUMMARY:Diner at Webb Gin - Snellville
URL:https://www.outspokenentertainment.com/events/event/272-diner-at-webb-g
 in-snellville
END:VEVENT
END:VCALENDAR
