BEGIN:VCALENDAR
VERSION:2.0
PRODID:-//https://www.outspokenentertainment.com///NONSGML kigkonsult.se iCalcreator 2.10.15//
METHOD:PUBLISH
BEGIN:VEVENT
UID:20260421T143449UTC-30154HGPzb@https://www.outspokenentertainment.com/
DTSTAMP:20260421T143449Z
DESCRIPTION:Phoner number: (470) 359-7896 https://www.outspokenentertainmen
 t.com/events/event/267-b-w-burgers-norcross
DTSTART;VALUE=DATE:20240307
LOCATION:B&W Burgers - Norcross (113 S Peachtree St\, Norcross\, GA 30071)
SUMMARY:B&W Burgers - Norcross
URL:https://www.outspokenentertainment.com/events/event/267-b-w-burgers-nor
 cross
END:VEVENT
END:VCALENDAR
