BEGIN:VCALENDAR
VERSION:2.0
PRODID:-//https://www.outspokenentertainment.com///NONSGML kigkonsult.se iCalcreator 2.10.15//
METHOD:PUBLISH
BEGIN:VEVENT
UID:20260421T143719UTC-79460IGsV6@https://www.outspokenentertainment.com/
DTSTAMP:20260421T143719Z
DESCRIPTION:Phone number:&nbsp\;(770) 339-2572 https://www.outspokenenterta
 inment.com/events/event/266-jersey-peach-bar-grill-loganville
DTSTART;VALUE=DATE:20240305
LOCATION:Philanthropy Grill & Ale House (2715 Loganville Hwy SW\, Loganvill
 e\, GA 30052\, USA)
SUMMARY:Jersey Peach Bar & Grill - Loganville
URL:https://www.outspokenentertainment.com/events/event/266-jersey-peach-ba
 r-grill-loganville
END:VEVENT
END:VCALENDAR
