BEGIN:VCALENDAR
VERSION:2.0
PRODID:-//https://www.outspokenentertainment.com///NONSGML kigkonsult.se iCalcreator 2.10.15//
METHOD:PUBLISH
BEGIN:VEVENT
UID:20260421T141754UTC-4626U4hbtw@https://www.outspokenentertainment.com/
DTSTAMP:20260421T141754Z
DESCRIPTION:Phone Number : (404) 464-8971 https://www.outspokenentertainmen
 t.com/events/event/261-hobnob-neighborhood-tavern-brookhaven
DTSTART;VALUE=DATE:20240129
LOCATION:HobNob Neighborhood Tavern - Brookhaven (804 Town Blvd\, Brookhave
 n\, 30319)
SUMMARY:HobNob Neighborhood Tavern - Brookhaven
URL:https://www.outspokenentertainment.com/events/event/261-hobnob-neighbor
 hood-tavern-brookhaven
END:VEVENT
END:VCALENDAR
