BEGIN:VCALENDAR
VERSION:2.0
PRODID:-//https://www.outspokenentertainment.com///NONSGML kigkonsult.se iCalcreator 2.10.15//
METHOD:PUBLISH
BEGIN:VEVENT
UID:20260421T131011UTC-67812RUou1@https://www.outspokenentertainment.com/
DTSTAMP:20260421T131011Z
DESCRIPTION:Phone Number : (770) 790 5475 https://www.outspokenentertainmen
 t.com/events/event/236-paradise-grill-south-of-the-border-marietta-east-co
 bb
DTSTART;VALUE=DATE:20181208
LOCATION:Paradise Grill South of the Border - Marietta/East Cobb (3605 Sand
 y Plains Rd. \, Marietta\, 30066)
SUMMARY:Paradise Grill South of the Border - Marietta/East Cobb
URL:https://www.outspokenentertainment.com/events/event/236-paradise-grill-
 south-of-the-border-marietta-east-cobb
END:VEVENT
END:VCALENDAR
