BEGIN:VCALENDAR
VERSION:2.0
PRODID:-//https://www.outspokenentertainment.com///NONSGML kigkonsult.se iCalcreator 2.10.15//
METHOD:PUBLISH
BEGIN:VEVENT
UID:20260421T130216UTC-5294t6O8JO@https://www.outspokenentertainment.com/
DTSTAMP:20260421T130216Z
DESCRIPTION:Phone Number : (404) 321-5000 https://www.outspokenentertainmen
 t.com/events/event/234-napoleons-grille-decatur
DTSTART;VALUE=DATE:20181208
LOCATION:Napoleon's Grille - Decatur (2836 Lavista Rd\, Atlanta\, 30033-130
 7)
SUMMARY:Napoleon's Grille - Decatur
URL:https://www.outspokenentertainment.com/events/event/234-napoleons-grill
 e-decatur
END:VEVENT
END:VCALENDAR
