BEGIN:VCALENDAR
VERSION:2.0
PRODID:-//https://www.outspokenentertainment.com///NONSGML kigkonsult.se iCalcreator 2.10.15//
METHOD:PUBLISH
BEGIN:VEVENT
UID:20260421T144121UTC-2089CUoUAu@https://www.outspokenentertainment.com/
DTSTAMP:20260421T144121Z
DESCRIPTION:Phone number:&nbsp\;(678) 293-5036 https://www.outspokenenterta
 inment.com/events/event/222-hobnob-neighborhood-tavern-vinings
DTSTART;VALUE=DATE:20230825
LOCATION:HobNob Neighborhood Tavern - Vinings (4300 Paces Ferry Rd SE\, #25
 0 \, Atlanta\, 30339)
SUMMARY:HobNob Neighborhood Tavern - Vinings
URL:https://www.outspokenentertainment.com/events/event/222-hobnob-neighbor
 hood-tavern-vinings
END:VEVENT
END:VCALENDAR
