BEGIN:VCALENDAR
VERSION:2.0
PRODID:-//https://www.outspokenentertainment.com///NONSGML kigkonsult.se iCalcreator 2.10.15//
METHOD:PUBLISH
BEGIN:VEVENT
UID:20260421T141755UTC-0448v97sIA@https://www.outspokenentertainment.com/
DTSTAMP:20260421T141755Z
DESCRIPTION:Phone Number : (404) 266-1661 https://www.outspokenentertainmen
 t.com/events/event/200-mellow-mushroom-brookhaven
DTSTART;VALUE=DATE:20230322
LOCATION:Mellow Mushroom - Brookhaven (4058 Peachtree Rd NE\, Atlanta\, 303
 19)
SUMMARY:Mellow Mushroom - Brookhaven
URL:https://www.outspokenentertainment.com/events/event/200-mellow-mushroom
 -brookhaven
END:VEVENT
END:VCALENDAR
