BEGIN:VCALENDAR
VERSION:2.0
PRODID:-//https://www.outspokenentertainment.com///NONSGML kigkonsult.se iCalcreator 2.10.15//
METHOD:PUBLISH
BEGIN:VEVENT
UID:20260421T125947UTC-4337EKE0Mu@https://www.outspokenentertainment.com/
DTSTAMP:20260421T125947Z
DESCRIPTION:Phone Number : (770) 433-2398 https://www.outspokenentertainmen
 t.com/events/event/2-padriacs-vinings
DTSTART;VALUE=DATE:20181208
LOCATION:Padriac's (2460 Cumberland Pkwy  Atlanta\, Atlanta\, 30339 )
SUMMARY:Padriac's - Vinings
URL:https://www.outspokenentertainment.com/events/event/2-padriacs-vinings
END:VEVENT
END:VCALENDAR
