BEGIN:VCALENDAR
VERSION:2.0
PRODID:-//https://www.outspokenentertainment.com///NONSGML kigkonsult.se iCalcreator 2.10.15//
METHOD:PUBLISH
BEGIN:VEVENT
UID:20260421T142232UTC-7543FiS9Gp@https://www.outspokenentertainment.com/
DTSTAMP:20260421T142232Z
DESCRIPTION:Phone number:&nbsp\;(470) 355-9155 https://www.outspokenenterta
 inment.com/events/event/191-pour-taproom-midtown
DTSTART;VALUE=DATE:20230207
LOCATION:Pour Taproom - Midtown (1180 Peachtree St NE Suite A\, Atlanta\, G
 A 30309\, USA)
SUMMARY:Pour Taproom - Midtown
URL:https://www.outspokenentertainment.com/events/event/191-pour-taproom-mi
 dtown
END:VEVENT
END:VCALENDAR
