BEGIN:VCALENDAR
VERSION:2.0
PRODID:-//https://www.outspokenentertainment.com///NONSGML kigkonsult.se iCalcreator 2.10.15//
METHOD:PUBLISH
BEGIN:VEVENT
UID:20260421T142543UTC-5923v1r1iA@https://www.outspokenentertainment.com/
DTSTAMP:20260421T142543Z
DESCRIPTION:Phone number:&nbsp\;(770) 966-8600 https://www.outspokenenterta
 inment.com/events/event/187-los-magueys-dallas
DTSTART;VALUE=DATE:20230201
LOCATION:Los Magueys - Dallas (8774 Dallas Acworth Hwy\, #C \, Dallas\, 301
 32)
SUMMARY:Los Magueys - Dallas
URL:https://www.outspokenentertainment.com/events/event/187-los-magueys-dal
 las
END:VEVENT
END:VCALENDAR
