BEGIN:VCALENDAR
VERSION:2.0
PRODID:-//https://www.outspokenentertainment.com///NONSGML kigkonsult.se iCalcreator 2.10.15//
METHOD:PUBLISH
BEGIN:VEVENT
UID:20260421T144257UTC-9130VenSUJ@https://www.outspokenentertainment.com/
DTSTAMP:20260421T144257Z
DESCRIPTION:Phone number:&nbsp\;(770) 817-2789 https://www.outspokenenterta
 inment.com/events/event/182-the-copper-kilt-formerly-gillys-sports-bar-dun
 woody
DTSTART;VALUE=DATE:20230128
LOCATION:Gilly's Sports Bar - Dunwoody (4343 Dunwoody Park  \, Dunwoody\, 3
 0338)
SUMMARY:The Copper Kilt (formerly Gilly's Sports Bar) - Dunwoody
URL:https://www.outspokenentertainment.com/events/event/182-the-copper-kilt
 -formerly-gillys-sports-bar-dunwoody
END:VEVENT
END:VCALENDAR
