BEGIN:VCALENDAR
VERSION:2.0
PRODID:-//https://www.outspokenentertainment.com///NONSGML kigkonsult.se iCalcreator 2.10.15//
METHOD:PUBLISH
BEGIN:VEVENT
UID:20260421T125954UTC-8496dmJEaA@https://www.outspokenentertainment.com/
DTSTAMP:20260421T125954Z
DESCRIPTION:Phone Number : (770) 640-8099 https://www.outspokenentertainmen
 t.com/events/event/18-alessios-roswell
DTSTART;VALUE=DATE:20181208
LOCATION:Alessio's - Roswell (640 West Crossville Rd\, Roswell\, 30075)
SUMMARY:Alessio's - Roswell
URL:https://www.outspokenentertainment.com/events/event/18-alessios-roswell
END:VEVENT
END:VCALENDAR
