BEGIN:VCALENDAR
VERSION:2.0
PRODID:-//https://www.outspokenentertainment.com///NONSGML kigkonsult.se iCalcreator 2.10.15//
METHOD:PUBLISH
BEGIN:VEVENT
UID:20260421T143859UTC-3346ahia7I@https://www.outspokenentertainment.com/
DTSTAMP:20260421T143859Z
DESCRIPTION:Phone number:&nbsp\;(706) 363-9963 https://www.outspokenenterta
 inment.com/events/event/170-traditions-golf-country-club-jefferson
DTSTART;VALUE=DATE:20220914
LOCATION:Traditions - Braselton (350 Traditions Way\, Braselton\, 30549)
SUMMARY:Traditions Golf & Country Club - Jefferson
URL:https://www.outspokenentertainment.com/events/event/170-traditions-golf
 -country-club-jefferson
END:VEVENT
END:VCALENDAR
