BEGIN:VCALENDAR
VERSION:2.0
PRODID:-//https://www.outspokenentertainment.com///NONSGML kigkonsult.se iCalcreator 2.10.15//
METHOD:PUBLISH
BEGIN:VEVENT
UID:20260421T143409UTC-8778AKr1wu@https://www.outspokenentertainment.com/
DTSTAMP:20260421T143409Z
DESCRIPTION:Phone number: (470) 299-5117 https://www.outspokenentertainment
 .com/events/event/169-cue-barbecue-peachtree-corners
DTSTART;VALUE=DATE:20220827
LOCATION:Cue Barbecue - Peachtree Corners (5260 Peachtree Industrial Blvd\,
  Peachtree Corners\, 30071)
SUMMARY:Cue Barbecue - Peachtree Corners
URL:https://www.outspokenentertainment.com/events/event/169-cue-barbecue-pe
 achtree-corners
END:VEVENT
END:VCALENDAR
