BEGIN:VCALENDAR
VERSION:2.0
PRODID:-//https://www.outspokenentertainment.com///NONSGML kigkonsult.se iCalcreator 2.10.15//
METHOD:PUBLISH
BEGIN:VEVENT
UID:20260421T143520UTC-0056z2uxNa@https://www.outspokenentertainment.com/
DTSTAMP:20260421T143520Z
DESCRIPTION:Phone number: (706) 354-1515 https://www.outspokenentertainment
 .com/events/event/164-johnnys-ny-style-pizza-athens
DTSTART;VALUE=DATE:20220706
LOCATION:Johnny's NY Style Pizza - Athens ()
SUMMARY:Johnny's NY Style Pizza - Athens
URL:https://www.outspokenentertainment.com/events/event/164-johnnys-ny-styl
 e-pizza-athens
END:VEVENT
END:VCALENDAR
