BEGIN:VCALENDAR
VERSION:2.0
PRODID:-//https://www.outspokenentertainment.com///NONSGML kigkonsult.se iCalcreator 2.10.15//
METHOD:PUBLISH
BEGIN:VEVENT
UID:20260421T142736UTC-5286VCXG2Z@https://www.outspokenentertainment.com/
DTSTAMP:20260421T142736Z
DESCRIPTION:Phone number: (678) 403-8810 https://www.outspokenentertainment
 .com/events/event/156-ralphs-zucca-kennesaw
DTSTART;VALUE=DATE:20220330
LOCATION:Ralph's Zucca - Kennesaw (4290 Bells Ferry Rd\, Kennesaw\, 30144)
SUMMARY:Ralph's Zucca - Kennesaw
URL:https://www.outspokenentertainment.com/events/event/156-ralphs-zucca-ke
 nnesaw
END:VEVENT
END:VCALENDAR
