BEGIN:VCALENDAR
VERSION:2.0
PRODID:-//https://www.outspokenentertainment.com///NONSGML kigkonsult.se iCalcreator 2.10.15//
METHOD:PUBLISH
BEGIN:VEVENT
UID:20260421T142139UTC-6698C22Fhr@https://www.outspokenentertainment.com/
DTSTAMP:20260421T142139Z
DESCRIPTION:Phone number: (470) 240-4945 https://www.outspokenentertainment
 .com/events/event/150-wheelhouse-decatur
DTSTART;VALUE=DATE:20220126
LOCATION:Wheelhouse - Decatur (1479 Scott Blvd\, Decatur\, 30030)
SUMMARY:Wheelhouse - Decatur
URL:https://www.outspokenentertainment.com/events/event/150-wheelhouse-deca
 tur
END:VEVENT
END:VCALENDAR
