BEGIN:VCALENDAR
VERSION:2.0
PRODID:-//https://www.outspokenentertainment.com///NONSGML kigkonsult.se iCalcreator 2.10.15//
METHOD:PUBLISH
BEGIN:VEVENT
UID:20260421T143545UTC-3254PsGu82@https://www.outspokenentertainment.com/
DTSTAMP:20260421T143545Z
DESCRIPTION:Phone Number: (770) 439-0109 https://www.outspokenentertainment
 .com/events/event/148-johnnys-ny-style-pizza-hiram
DTSTART;VALUE=DATE:20211222
LOCATION:Johnny's NY Style Pizza - Hiram (66 Hiram Douglasville Highway\, S
 uite 107\, Hiram\, 30141)
SUMMARY:Johnny's NY Style Pizza - Hiram
URL:https://www.outspokenentertainment.com/events/event/148-johnnys-ny-styl
 e-pizza-hiram
END:VEVENT
END:VCALENDAR
