BEGIN:VCALENDAR
VERSION:2.0
PRODID:-//https://www.outspokenentertainment.com///NONSGML kigkonsult.se iCalcreator 2.10.15//
METHOD:PUBLISH
BEGIN:VEVENT
UID:20260421T143057UTC-09189VNxtD@https://www.outspokenentertainment.com/
DTSTAMP:20260421T143057Z
DESCRIPTION:Phone number:&nbsp\;(404) 872-4990 https://www.outspokenenterta
 inment.com/events/event/141-the-albert-inman-park
DTSTART;VALUE=DATE:20210908
LOCATION:The Albert - Inman Park (918 Austin Ave NE\, Atlanta\, GA 30307)
SUMMARY:The Albert - Inman Park
URL:https://www.outspokenentertainment.com/events/event/141-the-albert-inma
 n-park
END:VEVENT
END:VCALENDAR
