BEGIN:VCALENDAR
VERSION:2.0
PRODID:-//https://www.outspokenentertainment.com///NONSGML kigkonsult.se iCalcreator 2.10.15//
METHOD:PUBLISH
BEGIN:VEVENT
UID:20260421T143720UTC-2546tKB1o9@https://www.outspokenentertainment.com/
DTSTAMP:20260421T143720Z
DESCRIPTION:Phone:&nbsp\;(404) 827-0434 https://www.outspokenentertainment.
 com/events/event/137-milltown-arms-tavern-cabbagetown
DTSTART;VALUE=DATE:20210811
LOCATION:Milltown Arms Tavern - Cabbagetown (180 Carroll St SE\, Atlanta\, 
 30312)
SUMMARY:Milltown Arms Tavern - Cabbagetown
URL:https://www.outspokenentertainment.com/events/event/137-milltown-arms-t
 avern-cabbagetown
END:VEVENT
END:VCALENDAR
