BEGIN:VCALENDAR
VERSION:2.0
PRODID:-//https://www.outspokenentertainment.com///NONSGML kigkonsult.se iCalcreator 2.10.15//
METHOD:PUBLISH
BEGIN:VEVENT
UID:20260421T142217UTC-7703VtWvkf@https://www.outspokenentertainment.com/
DTSTAMP:20260421T142217Z
DESCRIPTION:Phone number:(678) 461-4025 https://www.outspokenentertainment.
 com/events/event/134-ceviche-roswell
DTSTART;VALUE=DATE:20210527
LOCATION:Ceviche - Roswell (963 Canton St\, Roswell\, 30075)
SUMMARY:Ceviche - Roswell
URL:https://www.outspokenentertainment.com/events/event/134-ceviche-roswell
END:VEVENT
END:VCALENDAR
