BEGIN:VCALENDAR
VERSION:2.0
PRODID:-//https://www.outspokenentertainment.com///NONSGML kigkonsult.se iCalcreator 2.10.15//
METHOD:PUBLISH
BEGIN:VEVENT
UID:20260421T141811UTC-6100mfEVWp@https://www.outspokenentertainment.com/
DTSTAMP:20260421T141811Z
DESCRIPTION:Phone number: (770) 717-7217&nbsp\; https://www.outspokenentert
 ainment.com/events/event/127-bambinellis-lilburn
DTSTART;VALUE=DATE:20210402
LOCATION:Bambinelli's - Lilburn (4153 Lawrenceville Hwy \, Lilburn\, 30047)
SUMMARY:Bambinelli's - Lilburn
URL:https://www.outspokenentertainment.com/events/event/127-bambinellis-lil
 burn
END:VEVENT
END:VCALENDAR
