BEGIN:VCALENDAR
VERSION:2.0
PRODID:-//https://www.outspokenentertainment.com///NONSGML kigkonsult.se iCalcreator 2.10.15//
METHOD:PUBLISH
BEGIN:VEVENT
UID:20260421T143632UTC-97523Ztt8f@https://www.outspokenentertainment.com/
DTSTAMP:20260421T143632Z
DESCRIPTION:Phone number: (770) 486-1860 https://www.outspokenentertainment
 .com/events/event/122-beef-o-bradys-peachtree-city
DTSTART;VALUE=DATE:20210205
LOCATION:Beef O' Brady's - Peachtree City (100 Peachtree Pkwy N\, Suite 18 
  \, Peachtree City\, 30269)
SUMMARY:Beef O' Brady's - Peachtree City
URL:https://www.outspokenentertainment.com/events/event/122-beef-o-bradys-p
 eachtree-city
END:VEVENT
END:VCALENDAR
