BEGIN:VCALENDAR
VERSION:2.0
PRODID:-//https://www.outspokenentertainment.com///NONSGML kigkonsult.se iCalcreator 2.10.15//
METHOD:PUBLISH
BEGIN:VEVENT
UID:20260421T143556UTC-6892ElKK3V@https://www.outspokenentertainment.com/
DTSTAMP:20260421T143556Z
DESCRIPTION:Phone number: (404) 843-8058&nbsp\; &nbsp\; &nbsp\; https://www
 .outspokenentertainment.com/events/event/120-thos-oreillys-public-house-sa
 ndy-springs
DTSTART;VALUE=DATE:20201015
LOCATION:Thos. O'Reilly's Public House - Sandy Springs (227 Sandy Springs P
 l NE\, Suite 416\, Sandy Springs\, 30328)
SUMMARY:Thos. O'Reilly's Public House - Sandy Springs
URL:https://www.outspokenentertainment.com/events/event/120-thos-oreillys-p
 ublic-house-sandy-springs
END:VEVENT
END:VCALENDAR
