BEGIN:VCALENDAR
VERSION:2.0
PRODID:-//https://www.outspokenentertainment.com///NONSGML kigkonsult.se iCalcreator 2.10.15//
METHOD:PUBLISH
BEGIN:VEVENT
UID:20260421T144211UTC-78992cSd14@https://www.outspokenentertainment.com/
DTSTAMP:20260421T144211Z
DESCRIPTION:Phone Number : 470-448-4572 https://www.outspokenentertainment.
 com/events/event/116-hobnob-neighborhood-tavern-halcyon-alpharetta
DTSTART;VALUE=DATE:20200923
LOCATION:HobNob Neighborhood Tavern - Halcyon/Alpharetta (6690 Town Square 
 #420\, Alpharetta\, GA 30005\, USA)
SUMMARY:HobNob Neighborhood Tavern - Halcyon/Alpharetta
URL:https://www.outspokenentertainment.com/events/event/116-hobnob-neighbor
 hood-tavern-halcyon-alpharetta
END:VEVENT
END:VCALENDAR
